BEGIN:VCALENDAR
VERSION:2.0
PRODID:-//ChamberMaster//Event Calendar 2.0//EN
METHOD:PUBLISH
X-PUBLISHED-TTL:P1H
REFRESH-INTERVAL:P1H
CALSCALE:GREGORIAN
BEGIN:VTIMEZONE
TZID:America/Chicago
BEGIN:DAYLIGHT
RRULE:FREQ=YEARLY;BYMONTH=3;BYDAY=2SU
DTSTART:20070101T000000
TZOFFSETFROM:-0600
TZOFFSETTO:-0500
TZNAME:Central Daylight Time
END:DAYLIGHT
BEGIN:STANDARD
RRULE:FREQ=YEARLY;BYMONTH=11;BYDAY=1SU
DTSTART:20070101T000000
TZOFFSETFROM:-0500
TZOFFSETTO:-0600
TZNAME:Central Standard Time
END:STANDARD
END:VTIMEZONE
BEGIN:VEVENT
DTSTART;TZID=America/Chicago:20270313T083000
DTEND;TZID=America/Chicago:20270313T140000
X-MICROSOFT-CDO-ALLDAYEVENT:FALSE
SUMMARY:2027 Mixer Driver Championship - Driver & Sponsor Registration
DESCRIPTION:Our annual Mixer Driver Championship will take place on March 13\, 2027 at the Canadian County Expo Center! This competition tests the skill and knowledge of Mixer Truck Drivers from across the state. Challenges include a written exam\, a driving course\, and a pre-trip inspection. Each driver will receive a competitor shirt\, hat\, and study booklet. The course dimensions are included in registration confirmation email.Prizes: 1st $3\,000\, 2nd $2\,000\, and 3rd $1\,000.This event will take place at the Canadian County Expo Center - indoor arenaFamily and friends are invited to come and support their competing driver. Attendance is free.The winner will be invited to compete in the fall at the NRMCA Mixer Driver Championship in Nashville\, TN. (The winning company must be a member of NRMCA to compete.)Each producer is asked to bring one (1) truck\, and one truck only. All of their drivers will use the same truck.  We will be covering all exterior cameras. We need volunteers to make this event a success! We are asking each producer company to send a minimum of one volunteer. Preferably\, one volunteer per every two drivers.  More volunteers are welcome.
X-ALT-DESC;FMTTYPE=text/html:<!DOCTYPE html><html><head><title></title></head><body aria-disabled="false"><p>Our annual Mixer Driver Championship will take place on <strong fr-original-style="" style="font-weight: 700\;">March 13\, 2027</strong> at the <strong fr-original-style="" style="font-weight: 700\;">Canadian County Expo Center</strong>! This competition tests the skill and knowledge of Mixer Truck Drivers from across the state. Challenges include a written exam\, a driving course\, and a pre-trip inspection. Each driver will receive a competitor shirt\, hat\, and study booklet. <u>The course dimensions are included in registration confirmation email.</u></p><p>Prizes: 1st $3\,000\, 2nd $2\,000\, and 3rd $1\,000.</p><p>This event will take place at the Canadian County Expo Center - indoor arena</p><p>Family and friends are invited to come and support their competing driver. Attendance is free.</p><p>The winner will be invited to compete in the fall at the NRMCA Mixer Driver Championship in Nashville\, TN. (The winning company must be a member of NRMCA to compete.)</p><p><strong fr-original-style="" style="font-weight: 700\;">Each producer is asked to bring one (1) truck\,&nbsp\;</strong>and one truck only. All of their drivers will use the same truck. &nbsp\;We will be covering all exterior cameras.&nbsp\;</p><p>We need <strong fr-original-style="" style="font-weight: 700\;">volunteers</strong> to make this event a success! We are asking <strong fr-original-style="" style="font-weight: 700\;">each producer company</strong> to send a minimum of one volunteer. Preferably\, one volunteer per every two drivers. &nbsp\;More volunteers are welcome.&nbsp\;</p></body></html>
LOCATION:3001 Jensen Road E El Reno OK 73036
UID:e.1777.1443374
SEQUENCE:3
DTSTAMP:20260422T181416Z
URL:https://members.ormca.com/aci-field-exams/Details/2027-mixer-driver-championship-driver-sponsor-registration-1709617?sourceTypeId=Hub
END:VEVENT
END:VCALENDAR
